BEGIN:VCALENDAR
VERSION:2.0
PRODID:-//TOUT-COURT - ECPv6.15.17//NONSGML v1.0//EN
CALSCALE:GREGORIAN
METHOD:PUBLISH
X-WR-CALNAME:TOUT-COURT
X-ORIGINAL-URL:https://tout-court.ca
X-WR-CALDESC:Évènements pour TOUT-COURT
REFRESH-INTERVAL;VALUE=DURATION:PT1H
X-Robots-Tag:noindex
X-PUBLISHED-TTL:PT1H
BEGIN:VTIMEZONE
TZID:America/New_York
BEGIN:DAYLIGHT
TZOFFSETFROM:-0500
TZOFFSETTO:-0400
TZNAME:EDT
DTSTART:20240310T070000
END:DAYLIGHT
BEGIN:STANDARD
TZOFFSETFROM:-0400
TZOFFSETTO:-0500
TZNAME:EST
DTSTART:20241103T060000
END:STANDARD
BEGIN:DAYLIGHT
TZOFFSETFROM:-0500
TZOFFSETTO:-0400
TZNAME:EDT
DTSTART:20250309T070000
END:DAYLIGHT
BEGIN:STANDARD
TZOFFSETFROM:-0400
TZOFFSETTO:-0500
TZNAME:EST
DTSTART:20251102T060000
END:STANDARD
BEGIN:DAYLIGHT
TZOFFSETFROM:-0500
TZOFFSETTO:-0400
TZNAME:EDT
DTSTART:20260308T070000
END:DAYLIGHT
BEGIN:STANDARD
TZOFFSETFROM:-0400
TZOFFSETTO:-0500
TZNAME:EST
DTSTART:20261101T060000
END:STANDARD
END:VTIMEZONE
BEGIN:VEVENT
DTSTART;TZID=America/New_York:20250617T190000
DTEND;TZID=America/New_York:20250617T203000
DTSTAMP:20260421T203925
CREATED:20250611T121448Z
LAST-MODIFIED:20250611T122052Z
UID:10000267-1750186800-1750192200@tout-court.ca
SUMMARY:Le plaisir de courir TOUT-COURT! Conférence d'Anne-Lise Nadeau
DESCRIPTION:D’une enfance peu sportive à une vie adulte hyperactive… Que s’est-il passé entre les deux\, pour que la chanteuse\, comédienne et animatrice Anne-Lise Nadeau développe une réelle passion pour la course à pied ?\n\nMarathons\, ultramarathons\, aventures diverses\, dont des courses de plus de 24 h en montagne et sur route\, un voyage humanitaire en Ukraine dans le cadre de son mandat d’ambassadrice du Bromont Ultra\, et la création de la plateforme web sur la course à pied TOUT-COURT.ca… Décidément\, on est loin de l’enfant qui était parmi les derniers choisis en éducation physique !\n\nDans une conférence accessible et décontractée\, la pétillante artiste maskoutaine partage avec le public (formé de coureurs et non-coureurs !) son parcours et la vision qu’elle a de son sport.\nÀ vos marques\, prêts\, soyez-y !
URL:https://tout-court.ca/calendrier/le-plaisir-de-courir-tout-court-conference-danne-lise-nadeau/
LOCATION:Bibliothèque Saint-Hyacinthe\, 2175\, rue Girouard ouest\, Saint-Hyacinthe\, Qc\, J2S 3A9
CATEGORIES:Activités TOUT-COURT
ATTACH;FMTTYPE=image/jpeg:https://tout-court.ca/wp-content/uploads/2025/06/504018747_1019705787043517_1660625802964505334_n.jpg
END:VEVENT
END:VCALENDAR