BEGIN:VCALENDAR
VERSION:2.0
PRODID:-//TOUT-COURT - ECPv6.15.17//NONSGML v1.0//EN
CALSCALE:GREGORIAN
METHOD:PUBLISH
X-WR-CALNAME:TOUT-COURT
X-ORIGINAL-URL:https://tout-court.ca
X-WR-CALDESC:Évènements pour TOUT-COURT
REFRESH-INTERVAL;VALUE=DURATION:PT1H
X-Robots-Tag:noindex
X-PUBLISHED-TTL:PT1H
BEGIN:VTIMEZONE
TZID:America/New_York
BEGIN:DAYLIGHT
TZOFFSETFROM:-0500
TZOFFSETTO:-0400
TZNAME:EDT
DTSTART:20240310T070000
END:DAYLIGHT
BEGIN:STANDARD
TZOFFSETFROM:-0400
TZOFFSETTO:-0500
TZNAME:EST
DTSTART:20241103T060000
END:STANDARD
BEGIN:DAYLIGHT
TZOFFSETFROM:-0500
TZOFFSETTO:-0400
TZNAME:EDT
DTSTART:20250309T070000
END:DAYLIGHT
BEGIN:STANDARD
TZOFFSETFROM:-0400
TZOFFSETTO:-0500
TZNAME:EST
DTSTART:20251102T060000
END:STANDARD
BEGIN:DAYLIGHT
TZOFFSETFROM:-0500
TZOFFSETTO:-0400
TZNAME:EDT
DTSTART:20260308T070000
END:DAYLIGHT
BEGIN:STANDARD
TZOFFSETFROM:-0400
TZOFFSETTO:-0500
TZNAME:EST
DTSTART:20261101T060000
END:STANDARD
END:VTIMEZONE
BEGIN:VEVENT
DTSTART;TZID=America/New_York:20250824T133000
DTEND;TZID=America/New_York:20250824T170000
DTSTAMP:20260421T222556
CREATED:20250803T223525Z
LAST-MODIFIED:20250817T175014Z
UID:10000274-1756042200-1756054800@tout-court.ca
SUMMARY:Lancement du livre "Jouer dans le bois" de David Bombardier
DESCRIPTION:Un après-midi festif vous attend au pied du mont Bellevue\, sous le préau extérieur d’Humano District\, à Sherbrooke. Au programme : Un lancement animé et rassembleur Des discours sincères Une séance de dédicaces De la bonne bière Des trucs à manger De la musique Des prix de présence Des rires… et peut-être quelques larmes\n\nMais d’abord\, pour ceux et celles qui souhaitent se délier les jambes:\n\n 13 h 30 – Départ d’une sortie de course amicale (fun run) dans les sentiers du mont Bellevue.Activité gratuite\, ouverte à tous et adaptée à tous les niveaux.Des petits cadeaux pourraient même vous attendre à l’arrivée.(Rendez-vous derrière Humano District)\n 14 h 30 – Accueil des personnes invitées au lancement\n\n 15 h – Lancement officiel \n\n\n\n\n Activité payante\, ouverte à tous.\n\n\n\n» Réservez votre place \n» Site web \n\n« Psssttt! Anne-Lise Nadeau\, cofondatrice TOUT-COURT\, animera l’événement! »\n\nSource et crédit photos: David Bombardier
URL:https://tout-court.ca/calendrier/lancement-du-livre-jouer-dans-le-bois-de-david-bombardier/
LOCATION:Humano District\, 1820\, rue Galt Ouest\, Sherbrooke\, Québec\, J1K 1H9\, Canada
CATEGORIES:Activités TOUT-COURT
ATTACH;FMTTYPE=image/png:https://tout-court.ca/wp-content/uploads/2025/08/Capture-decran-2025-08-03-183751.png
END:VEVENT
END:VCALENDAR